BEGIN:VCALENDAR
VERSION:2.0
PRODID:-//ACOS//NONSGML CMS 17.10.4687//EN
BEGIN:VEVENT
UID:2d385579-1f25-4316-705c-51c138322d01
SUMMARY:MC-dag på Norsk vegmuseum
DESCRIPTION:På MC-dagen blir det både foredrag og muligheter for egenkjøring med veiledning. Museene i området er åpne, og trafikksikkerhetssenteret er åpent fra 13.00 til 15.00. Du kan lese hele programmet i denne plakaten (PDF, 5 MB) .
DTSTART:20260503T080000Z
DTEND:20260503T140000Z
LOCATION:Norsk Vegmuseum, Hunderfossvegen 757, 2625 Fåberg
SEQUENCE:0
CREATED:20260413T143817Z
DTSTAMP:20260422T044059Z
END:VEVENT
END:VCALENDAR
